BEGIN:VCALENDAR
VERSION:2.0
PRODID:-//Big Sky Owners Association - ECPv6.15.20//NONSGML v1.0//EN
CALSCALE:GREGORIAN
METHOD:PUBLISH
X-WR-CALNAME:Big Sky Owners Association
X-ORIGINAL-URL:https://bigskymt.org
X-WR-CALDESC:Events for Big Sky Owners Association
REFRESH-INTERVAL;VALUE=DURATION:PT1H
X-Robots-Tag:noindex
X-PUBLISHED-TTL:PT1H
BEGIN:VTIMEZONE
TZID:America/Denver
BEGIN:DAYLIGHT
TZOFFSETFROM:-0700
TZOFFSETTO:-0600
TZNAME:MDT
DTSTART:20250309T090000
END:DAYLIGHT
BEGIN:STANDARD
TZOFFSETFROM:-0600
TZOFFSETTO:-0700
TZNAME:MST
DTSTART:20251102T080000
END:STANDARD
BEGIN:DAYLIGHT
TZOFFSETFROM:-0700
TZOFFSETTO:-0600
TZNAME:MDT
DTSTART:20260308T090000
END:DAYLIGHT
BEGIN:STANDARD
TZOFFSETFROM:-0600
TZOFFSETTO:-0700
TZNAME:MST
DTSTART:20261101T080000
END:STANDARD
BEGIN:DAYLIGHT
TZOFFSETFROM:-0700
TZOFFSETTO:-0600
TZNAME:MDT
DTSTART:20270314T090000
END:DAYLIGHT
BEGIN:STANDARD
TZOFFSETFROM:-0600
TZOFFSETTO:-0700
TZNAME:MST
DTSTART:20271107T080000
END:STANDARD
END:VTIMEZONE
BEGIN:VTIMEZONE
TZID:UTC
BEGIN:STANDARD
TZOFFSETFROM:+0000
TZOFFSETTO:+0000
TZNAME:UTC
DTSTART:20250101T000000
END:STANDARD
END:VTIMEZONE
BEGIN:VEVENT
DTSTART;TZID=America/Denver:20260423T090000
DTEND;TZID=America/Denver:20260423T103000
DTSTAMP:20260423T124437
CREATED:20260112T014946Z
LAST-MODIFIED:20260420T200353Z
UID:9836-1776934800-1776940200@bigskymt.org
SUMMARY:April 23\, 2026\, at 9AM (MST)
DESCRIPTION:View Meeting Agenda
URL:https://bigskymt.org/event/january-22-2026-at-9am-mst/
CATEGORIES:BSAC Meeting
END:VEVENT
BEGIN:VEVENT
DTSTART;TZID=UTC:20260515T090000
DTEND;TZID=UTC:20260515T103000
DTSTAMP:20260423T124437
CREATED:20260421T013914Z
LAST-MODIFIED:20260421T014023Z
UID:9974-1778835600-1778841000@bigskymt.org
SUMMARY:May 15\, 2026\, at 9AM (MST)
DESCRIPTION:
URL:https://bigskymt.org/event/may-15-2026-at-9am-mst/
CATEGORIES:BSOA Meeting
END:VEVENT
END:VCALENDAR